BEGIN:VCALENDAR
VERSION:2.0
PRODID:-//Library Market//iCal Export//EN
BEGIN:VEVENT
SUMMARY:Pay It Forward Pflugerville
UID:21466
DTSTAMP:20260421T044600Z
DTSTART:20260725T190000Z
DTEND:20260725T210000Z
LOCATION:1008 W. Pfluger Street, Pflugerville, TX 78660, United States
ROOM: Poppy &amp; Cosmos &amp; Lantana
DESCRIPTION:Spread kindness throughout Pflugerville and beyond as we wrap 
 up our Summer Reading Program. Stop by this come-and-go event to learn abo
 ut local volunteer opportunities and work on a quick charitable craft, lik
 e making a pet toy for the animal shelter or decorating a kindness rock to
  leave at a park.Have you been participating in our Summer Reading Program
  team competition? Stop by to find out which team read the most hours this
  summer. The entire library will be decorating in the winning team&#039;s 
 color.All ages are welcome at this event. Registration is not required.Non
 profit and charitable organizations are invited to host an information tab
 le at this event to provide information about volunteer opportunities and 
 other ways to contribute. Organizations that are interested in participati
 ng may contact melissag@pflugervilletx.gov for more information.
URL:https://pflugerville.librarycalendar.com/event/pay-it-forward-pflugerv
 ille-21466
END:VEVENT
END:VCALENDAR
