BEGIN:VCALENDAR
VERSION:2.0
PRODID:-//Library Market//iCal Export//EN
BEGIN:VEVENT
SUMMARY:Mr. Will Music Show for Children with their Adult
UID:24968
DTSTAMP:20260422T050100Z
DTSTART:20260604T153000Z
DTEND:20260604T161500Z
LOCATION:1008 W. Pfluger Street, Pflugerville, TX 78660, United States
ROOM: Poppy &amp; Cosmos &amp; Lantana
DESCRIPTION:Mr. Will’s music show for children up to age 5 with an adult
  care giver is offered in lieu of today’s storytimes.Mr. Will entertains
  the young and young-at-heart with children&#039;s concerts. He encourage
 s little ones to sing along, jump around and dance to his tunes.Registrati
 on required!  Everyone must be registered to participate. Please make su
 re to include all adults, children, and babies in your group. Registratio
 n begins on Thursday, May 28 at 8:00 AMFor more information, contact Ms. C
 armen at CarmenL@pflugervilletx.gov
URL:https://pflugerville.librarycalendar.com/event/ys-event-tba-carmen-249
 68
END:VEVENT
END:VCALENDAR
