BEGIN:VCALENDAR
VERSION:2.0
PRODID:-//Library Market//iCal Export//EN
BEGIN:VEVENT
SUMMARY:Transportation Open House
UID:28781
DTSTAMP:20260425T191200Z
DTSTART:20260428T220000Z
DTEND:20260429T000000Z
LOCATION:1008 W. Pfluger Street, Pflugerville, TX 78660, United States
ROOM: Poppy
DESCRIPTION:City Meeting - Transportation Department Open House
URL:https://pflugerville.librarycalendar.com/event/transportation-open-hou
 se-28781
END:VEVENT
END:VCALENDAR
