BEGIN:VCALENDAR
VERSION:2.0
PRODID:-//Library Market//iCal Export//EN
BEGIN:VEVENT
SUMMARY:Tween Tiny Art Show - Starter Kit Pick Up
UID:28944
DTSTAMP:20260425T135900Z
DTSTART:20260511T130000Z
DTEND:20260512T010000Z
LOCATION:1008 W. Pfluger Street, Pflugerville, TX 78660, United States
ROOM: Tween Tiny Art Show - Starter Kit Pick Up
DESCRIPTION:Showcase your art! Tweens ages 8-12 may register to pick up a 
 starter art kit to create a tiny masterpiece. They may use the supplies pr
 ovided or they may use their own.The starter kit will include a stretched 
 4 x 4 canvas, watercolors and acrylic paints.The final art piece must not 
 exceed the size of the canvas.All submitted artwork will be showcased in t
 he glass display case located in the Great Hall at the library from June 1
  to June 30 of 2026.   This is not a contest and there will not be prize
 s awarded. Tween Art Show Guidelines:Artwork must be original work of the
  entrant.Copyrighted images may not be used.AI generated images may not be
  used.Artwork must be suitable for all ages.Artwork will be displayed with
  first names and last initials only.  Ex. Singing Lions by Martin D.Impor
 tant Dates to Remember:Fri 5/1 – Registration begins.Fri 5/11 – Starte
 r kits available for pickup.Fri 5/29 – Last day to turn in artwork. Libr
 ary closes at 6:00 PM.Wed 7/1 – Wed 7/15 – Artists pick up their work 
 to take it home.  Unclaimed pieces will be discarded. For more informati
 on, please contact Ms. Carmen at CarmenL@pflugervilletx.gov 
URL:https://pflugerville.librarycalendar.com/event/tween-tiny-art-show-sta
 rter-kit-pick-28944
END:VEVENT
END:VCALENDAR
