BEGIN:VCALENDAR
VERSION:2.0
PRODID:-//Library Market//iCal Export//EN
BEGIN:VEVENT
SUMMARY:A/V Work
UID:28998
DTSTAMP:20260426T033100Z
DTSTART:20260429T190000Z
DTEND:20260429T200000Z
LOCATION:1008 W. Pfluger Street, Pflugerville, TX 78660, United States
ROOM: Poppy &amp; Cosmos &amp; Lantana
DESCRIPTION:
URL:https://pflugerville.librarycalendar.com/event/av-work-28998
END:VEVENT
END:VCALENDAR
